BEGIN:VCALENDAR
VERSION:2.0
PRODID:-//Huddersfield &amp; District Badger Group - ECPv6.15.20//NONSGML v1.0//EN
CALSCALE:GREGORIAN
METHOD:PUBLISH
X-ORIGINAL-URL:https://huddersfield-badgers.com
X-WR-CALDESC:Events for Huddersfield &amp; District Badger Group
REFRESH-INTERVAL;VALUE=DURATION:PT1H
X-Robots-Tag:noindex
X-PUBLISHED-TTL:PT1H
BEGIN:VTIMEZONE
TZID:Europe/London
BEGIN:DAYLIGHT
TZOFFSETFROM:+0000
TZOFFSETTO:+0100
TZNAME:BST
DTSTART:20240331T010000
END:DAYLIGHT
BEGIN:STANDARD
TZOFFSETFROM:+0100
TZOFFSETTO:+0000
TZNAME:GMT
DTSTART:20241027T010000
END:STANDARD
BEGIN:DAYLIGHT
TZOFFSETFROM:+0000
TZOFFSETTO:+0100
TZNAME:BST
DTSTART:20250330T010000
END:DAYLIGHT
BEGIN:STANDARD
TZOFFSETFROM:+0100
TZOFFSETTO:+0000
TZNAME:GMT
DTSTART:20251026T010000
END:STANDARD
BEGIN:DAYLIGHT
TZOFFSETFROM:+0000
TZOFFSETTO:+0100
TZNAME:BST
DTSTART:20260329T010000
END:DAYLIGHT
BEGIN:STANDARD
TZOFFSETFROM:+0100
TZOFFSETTO:+0000
TZNAME:GMT
DTSTART:20261025T010000
END:STANDARD
END:VTIMEZONE
BEGIN:VEVENT
DTSTART;TZID=Europe/London:20251122T100000
DTEND;TZID=Europe/London:20251122T150000
DTSTAMP:20260424T124307
CREATED:20240328T091056Z
LAST-MODIFIED:20251114T145327Z
UID:482-1763805600-1763823600@huddersfield-badgers.com
SUMMARY:SLAITHWAITE - Waves Christmas Fair
DESCRIPTION:We are appearing at the Waves Christmas Fair on Saturday the 22nd of November where there will be a variety of stalls and entertainment making it an enjoyable day for all the family. It is being held at Waves in Slaithwaite starting at 10am.
URL:https://huddersfield-badgers.com/diary-event/slaithwaite-waves-christmas-fair-2/
LOCATION:Waves\, 16 Upper Mills\, Slaithwaite\, HD7 5HA
ATTACH;FMTTYPE=image/jpeg:https://huddersfield-badgers.com/wp-content/uploads/2024/03/Christmas-Fayre-25-png.jpg
END:VEVENT
END:VCALENDAR